View In:
ArcGIS JavaScript
ArcGIS Online Map Viewer
ArcGIS Earth
Service Description: SGIMAP/c19th_Century_buffal_1_tif
Name: SGIMAP/c19th_Century_buffal_1_tif
Description:
Single Fused Map Cache: false
Extent:
XMin: -1.5670336390098568E7
YMin: 2281800.36046735
XMax: -5950005.633040659
YMax: 9779235.911739638
Spatial Reference: 102100
(3857)
Initial Extent:
XMin: -1.5670336390098568E7
YMin: 2281800.36046735
XMax: -5950005.633040659
YMax: 9779235.911739638
Spatial Reference: 102100
(3857)
Full Extent:
XMin: -1.5670336390098568E7
YMin: 2281800.36046735
XMax: -5950005.633040659
YMax: 9779235.911739638
Spatial Reference: 102100
(3857)
Pixel Size X: 13575.880945611605
Pixel Size Y: 9383.52384389523
Band Count: 4
Pixel Type: U8
RasterFunction Infos: {"rasterFunctionInfos": [{
"name": "None",
"description": "",
"help": ""
}]}
Mensuration Capabilities: Basic
Inspection Capabilities:
Has Histograms: true
Has Colormap: false
Has Multi Dimensions : false
Rendering Rule:
Min Scale: 0
Max Scale: 0
Copyright Text:
Service Data Type: esriImageServiceDataTypeGeneric
Min Values: 0, 0, 0, 0
Max Values: 255, 255, 255, 255
Mean Values: 169.02821613609, 165.46187797596, 159.77734563455, 84.55104844743
Standard Deviation Values: 108.90057854013, 107.65634268553, 107.06939250411, 119.89551881123
Object ID Field:
Fields:
None
Default Mosaic Method: Center
Allowed Mosaic Methods:
SortField:
SortValue: null
Mosaic Operator: First
Default Compression Quality: 75
Default Resampling Method: Bilinear
Max Record Count: null
Max Image Height: 4100
Max Image Width: 15000
Max Download Image Count: null
Max Mosaic Image Count: null
Allow Raster Function: true
Allow Copy: true
Allow Analysis: true
Allow Compute TiePoints: false
Supports Statistics: false
Supports Advanced Queries: false
Use StandardizedQueries: true
Raster Type Infos:
Name: Raster Dataset
Description: Supports all ArcGIS Raster Datasets
Help:
Has Raster Attribute Table: false
Edit Fields Info: null
Ownership Based AccessControl For Rasters: null
Child Resources:
Info
Histograms
Statistics
Key Properties
Legend
Raster Function Infos
Supported Operations:
Export Image
Identify
Measure
Compute Histograms
Compute Statistics Histograms
Get Samples
Compute Class Statistics
Query Boundary
Compute Pixel Location
Compute Angles
Validate
Project