View In:
ArcGIS JavaScript
ArcGIS Online Map Viewer
ArcGIS Earth
Service Description: SGIMAP/NLCD_Land_Cover_CP
Name: SGIMAP/NLCD_Land_Cover_CP
Description:
Single Fused Map Cache: false
Extent:
XMin: 423180
YMin: 3667440
XMax: 778222.7196785053
YMax: 4154905.418352926
Spatial Reference: 26916
(26916)
Initial Extent:
XMin: 423180
YMin: 3667440
XMax: 778222.7196785053
YMax: 4154905.418352926
Spatial Reference: 26916
(26916)
Full Extent:
XMin: 423180
YMin: 3667440
XMax: 778222.7196785053
YMax: 4154905.418352926
Spatial Reference: 26916
(26916)
Pixel Size X: 29.99938484820493
Pixel Size Y: 29.99971803513608
Band Count: 1
Pixel Type: U16
RasterFunction Infos: {"rasterFunctionInfos": [{
"name": "None",
"description": "",
"help": ""
}]}
Mensuration Capabilities: Basic
Inspection Capabilities:
Has Histograms: true
Has Colormap: false
Has Multi Dimensions : false
Rendering Rule:
Min Scale: 0
Max Scale: 0
Copyright Text:
Service Data Type: esriImageServiceDataTypeThematic
Min Values: 11
Max Values: 95
Mean Values: 48.00412310009175
Standard Deviation Values: 18.01726564518519
Object ID Field:
Fields:
None
Default Mosaic Method: Center
Allowed Mosaic Methods:
SortField:
SortValue: null
Mosaic Operator: First
Default Compression Quality: 75
Default Resampling Method: Bilinear
Max Record Count: null
Max Image Height: 4100
Max Image Width: 15000
Max Download Image Count: null
Max Mosaic Image Count: null
Allow Raster Function: true
Allow Copy: true
Allow Analysis: true
Allow Compute TiePoints: false
Supports Statistics: false
Supports Advanced Queries: false
Use StandardizedQueries: true
Raster Type Infos:
Name: Raster Dataset
Description: Supports all ArcGIS Raster Datasets
Help:
Has Raster Attribute Table: true
Edit Fields Info: null
Ownership Based AccessControl For Rasters: null
Child Resources:
Info
Raster Attribute Table
Histograms
Statistics
Key Properties
Legend
Raster Function Infos
Supported Operations:
Export Image
Identify
Measure
Compute Histograms
Compute Statistics Histograms
Get Samples
Compute Class Statistics
Query Boundary
Compute Pixel Location
Compute Angles
Validate
Project