View In:
ArcGIS JavaScript
ArcGIS Online Map Viewer
ArcGIS Earth
Service Description: SGIMAP/Ecozone_Communities_Full_CP_Project
Name: SGIMAP/Ecozone_Communities_Full_CP_Project
Description:
Single Fused Map Cache: false
Extent:
XMin: 63214.99969329662
YMin: 3546899.000321146
XMax: 1553699.9996932966
YMax: 4360969.000321146
Spatial Reference: 26916
(26916)
Initial Extent:
XMin: 63214.99969329662
YMin: 3546899.000321146
XMax: 1553699.9996932966
YMax: 4360969.000321146
Spatial Reference: 26916
(26916)
Full Extent:
XMin: 63214.99969329662
YMin: 3546899.000321146
XMax: 1553699.9996932966
YMax: 4360969.000321146
Spatial Reference: 26916
(26916)
Pixel Size X: 5.0
Pixel Size Y: 5.0
Band Count: 3
Pixel Type: S16
RasterFunction Infos: {"rasterFunctionInfos": [{
"name": "None",
"description": "",
"help": ""
}]}
Mensuration Capabilities: Basic
Inspection Capabilities:
Has Histograms: false
Has Colormap: false
Has Multi Dimensions : false
Rendering Rule:
Min Scale: 0
Max Scale: 0
Copyright Text:
Service Data Type: esriImageServiceDataTypeGeneric
Min Values: N/A
Max Values: N/A
Mean Values: N/A
Standard Deviation Values: N/A
Object ID Field:
Fields:
None
Default Mosaic Method: Center
Allowed Mosaic Methods:
SortField:
SortValue: null
Mosaic Operator: First
Default Compression Quality: 75
Default Resampling Method: Bilinear
Max Record Count: null
Max Image Height: 4100
Max Image Width: 15000
Max Download Image Count: null
Max Mosaic Image Count: null
Allow Raster Function: true
Allow Copy: true
Allow Analysis: true
Allow Compute TiePoints: false
Supports Statistics: false
Supports Advanced Queries: false
Use StandardizedQueries: true
Raster Type Infos:
Name: Raster Dataset
Description: Supports all ArcGIS Raster Datasets
Help:
Has Raster Attribute Table: false
Edit Fields Info: null
Ownership Based AccessControl For Rasters: null
Child Resources:
Info
Statistics
Key Properties
Legend
Raster Function Infos
Supported Operations:
Export Image
Identify
Measure
Compute Histograms
Compute Statistics Histograms
Get Samples
Compute Class Statistics
Query Boundary
Compute Pixel Location
Compute Angles
Validate
Project