View In:
ArcGIS JavaScript
ArcGIS Online Map Viewer
ArcGIS Earth
Service Description: ATBC_CP_Public_App/ATBC_CP_Status_Maxan_Input
Name: ATBC_CP_Public_App/ATBC_CP_Status_Maxan_Input
Description:
Single Fused Map Cache: false
Extent:
XMin: 421114.9996932966
YMin: 3674549.000321146
XMax: 788214.9996932966
YMax: 4164949.000321146
Spatial Reference: 26916
(26916)
Initial Extent:
XMin: 421114.9996932966
YMin: 3674549.000321146
XMax: 788214.9996932966
YMax: 4164949.000321146
Spatial Reference: 26916
(26916)
Full Extent:
XMin: 421114.9996932966
YMin: 3674549.000321146
XMax: 788214.9996932966
YMax: 4164949.000321146
Spatial Reference: 26916
(26916)
Pixel Size X: 100.0
Pixel Size Y: 100.0
Band Count: 1
Pixel Type: U4
RasterFunction Infos: {"rasterFunctionInfos": [{
"name": "None",
"description": "",
"help": ""
}]}
Mensuration Capabilities: Basic
Inspection Capabilities:
Has Histograms: true
Has Colormap: false
Has Multi Dimensions : false
Rendering Rule:
Min Scale: 0
Max Scale: 0
Copyright Text:
Service Data Type: esriImageServiceDataTypeGeneric
Min Values: 0
Max Values: 3
Mean Values: 0.7268928196950707
Standard Deviation Values: 1.0863563713854267
Object ID Field:
Fields:
None
Default Mosaic Method: Center
Allowed Mosaic Methods:
SortField:
SortValue: null
Mosaic Operator: First
Default Compression Quality: 75
Default Resampling Method: Bilinear
Max Record Count: null
Max Image Height: 4100
Max Image Width: 15000
Max Download Image Count: null
Max Mosaic Image Count: null
Allow Raster Function: true
Allow Copy: true
Allow Analysis: true
Allow Compute TiePoints: false
Supports Statistics: false
Supports Advanced Queries: false
Use StandardizedQueries: true
Raster Type Infos:
Name: Raster Dataset
Description: Supports all ArcGIS Raster Datasets
Help:
Has Raster Attribute Table: true
Edit Fields Info: null
Ownership Based AccessControl For Rasters: null
Child Resources:
Info
Raster Attribute Table
Histograms
Statistics
Key Properties
Legend
Raster Function Infos
Supported Operations:
Export Image
Identify
Measure
Compute Histograms
Compute Statistics Histograms
Get Samples
Compute Class Statistics
Query Boundary
Compute Pixel Location
Compute Angles
Validate
Project